BEGIN:VCALENDAR
VERSION:2.0
PRODID:-//Lotus Evolution - ECPv6.15.17.1//NONSGML v1.0//EN
CALSCALE:GREGORIAN
METHOD:PUBLISH
X-WR-CALNAME:Lotus Evolution
X-ORIGINAL-URL:https://www.lotusevolution.ca
X-WR-CALDESC:Events for Lotus Evolution
REFRESH-INTERVAL;VALUE=DURATION:PT1H
X-Robots-Tag:noindex
X-PUBLISHED-TTL:PT1H
BEGIN:VTIMEZONE
TZID:America/Vancouver
BEGIN:DAYLIGHT
TZOFFSETFROM:-0800
TZOFFSETTO:-0700
TZNAME:PDT
DTSTART:20250309T100000
END:DAYLIGHT
BEGIN:STANDARD
TZOFFSETFROM:-0700
TZOFFSETTO:-0800
TZNAME:PST
DTSTART:20251102T090000
END:STANDARD
BEGIN:DAYLIGHT
TZOFFSETFROM:-0800
TZOFFSETTO:-0700
TZNAME:PDT
DTSTART:20260308T100000
END:DAYLIGHT
BEGIN:STANDARD
TZOFFSETFROM:-0700
TZOFFSETTO:-0800
TZNAME:PST
DTSTART:20261101T090000
END:STANDARD
BEGIN:DAYLIGHT
TZOFFSETFROM:-0800
TZOFFSETTO:-0700
TZNAME:PDT
DTSTART:20270314T100000
END:DAYLIGHT
BEGIN:STANDARD
TZOFFSETFROM:-0700
TZOFFSETTO:-0800
TZNAME:PST
DTSTART:20271107T090000
END:STANDARD
END:VTIMEZONE
BEGIN:VEVENT
DTSTART;TZID=America/Vancouver:20261220T190000
DTEND;TZID=America/Vancouver:20261220T203000
DTSTAMP:20260422T041641
CREATED:20260112T214944Z
LAST-MODIFIED:20260420T210221Z
UID:416-1797793200-1797798600@www.lotusevolution.ca
SUMMARY:Online: Our Love Combined - FREE Mass Meditation
DESCRIPTION:This collective healing\, affectionately known as OLC\, returns for the 6th consecutive year! Tune in on the third Sunday of every month at 7pm PST. You must register to participate. If you have already registered since January 2026\, you do not need to register again. See you there! \nREGISTRATION LINK: \nhttps://us02web.zoom.us/meeting/register/wpv2OvYzQZiTrshAeWiCiw
URL:https://www.lotusevolution.ca/event/online-our-love-combined-free-mass-meditation-12/
ATTACH;FMTTYPE=image/jpeg:https://www.lotusevolution.ca/wp-content/uploads/2026/01/OLC2026.jpg
END:VEVENT
END:VCALENDAR